BEGIN:VCALENDAR
VERSION:2.0
PRODID:-//Grayson LandCare - ECPv6.15.20//NONSGML v1.0//EN
CALSCALE:GREGORIAN
METHOD:PUBLISH
X-ORIGINAL-URL:https://graysonlandcare.org
X-WR-CALDESC:Events for Grayson LandCare
REFRESH-INTERVAL;VALUE=DURATION:PT1H
X-Robots-Tag:noindex
X-PUBLISHED-TTL:PT1H
BEGIN:VTIMEZONE
TZID:America/New_York
BEGIN:DAYLIGHT
TZOFFSETFROM:-0500
TZOFFSETTO:-0400
TZNAME:EDT
DTSTART:20250309T070000
END:DAYLIGHT
BEGIN:STANDARD
TZOFFSETFROM:-0400
TZOFFSETTO:-0500
TZNAME:EST
DTSTART:20251102T060000
END:STANDARD
BEGIN:DAYLIGHT
TZOFFSETFROM:-0500
TZOFFSETTO:-0400
TZNAME:EDT
DTSTART:20260308T070000
END:DAYLIGHT
BEGIN:STANDARD
TZOFFSETFROM:-0400
TZOFFSETTO:-0500
TZNAME:EST
DTSTART:20261101T060000
END:STANDARD
BEGIN:DAYLIGHT
TZOFFSETFROM:-0500
TZOFFSETTO:-0400
TZNAME:EDT
DTSTART:20270314T070000
END:DAYLIGHT
BEGIN:STANDARD
TZOFFSETFROM:-0400
TZOFFSETTO:-0500
TZNAME:EST
DTSTART:20271107T060000
END:STANDARD
END:VTIMEZONE
BEGIN:VEVENT
DTSTART;TZID=America/New_York:20260514T173000
DTEND;TZID=America/New_York:20260514T193000
DTSTAMP:20260424T201548
CREATED:20260309T181938Z
LAST-MODIFIED:20260413T164720Z
UID:10000422-1778779800-1778787000@graysonlandcare.org
SUMMARY:Potluck\, Meeting and Tour of the Permaculture Garden Thursday May 14 5:30-7:30 pm.
DESCRIPTION:It’s a field trip\, cookout\, plant swap and tour! Everyone is invited to the permaculture garden for a cookout and  plant swap. The cookout begins at 6pm at the garden at the Church of the Good Shepherd located at 9441 Grayson Pkwy\, Galax\, VA 24333.\, please bring a side dish to share. This will be followed by a tour of the garden beginning about 6:45pm. It is not necessary to attend the potluck to tour the garden. The plant swap will feature YOUR favorite garden plants and seeds. Bring what you’d like to share with your friends and neighbors. The permaculture garden features a wide array of native plants and most are excellent for pollinators as well. \n  \nAll Grayson LandCare presentations are free and open to the public unless noted otherwise. For more information about Grayson LandCare visit the webpage\, graysonlandcare.org\, email director@graysonlandcare or call 276-768-0597.
URL:https://graysonlandcare.org/event/potluck-meeting-and-tour-of-the-permaculture-garden-thursday-may-14-530-730-pm/
LOCATION:Church of the Good Shepherd\, 9441 Grayson Pkwy\, Galax\, VA\, 24333\, United States
CATEGORIES:Chrurch of the Good Shepherd,Grayson Permaculture Group,Monthly presentation,Permaculture Garden
ATTACH;FMTTYPE=image/jpeg:https://graysonlandcare.org/wp-content/uploads/2025/06/perma-dinner-reduced.jpg
GEO:36.6244315;-80.9956098
X-APPLE-STRUCTURED-LOCATION;VALUE=URI;X-ADDRESS=Church of the Good Shepherd 9441 Grayson Pkwy Galax VA 24333 United States;X-APPLE-RADIUS=500;X-TITLE=9441 Grayson Pkwy:geo:-80.9956098,36.6244315
END:VEVENT
BEGIN:VEVENT
DTSTART;TZID=America/New_York:20260516T090000
DTEND;TZID=America/New_York:20260516T130000
DTSTAMP:20260424T201548
CREATED:20260309T182358Z
LAST-MODIFIED:20260413T162728Z
UID:10000423-1778922000-1778936400@graysonlandcare.org
SUMMARY:Regenerative Practices and Permaculture at Home\, a series of workshops
DESCRIPTION:Part one of this workshop series will be May 16 from 9am to 1pm at the Permaculture Garden at Church of the Good Shepherd located at 9441 Grayson Parkway\, Galax\, VA 24333 \nLearn about the soil food web and techniques for improving your soil health\, including cover cropping and composting.  The workshop includes a demonstration of how to create your own compost pile. \nThe workshop is free but registration is required. Please email permaculture@graysonlandcare.org to register or for more information.
URL:https://graysonlandcare.org/event/regenerative-practices-and-permaculture-at-home-a-series-of-workshops/
LOCATION:Church of the Good Shepherd\, 9441 Grayson Pkwy\, Galax\, VA\, 24333\, United States
CATEGORIES:Chrurch of the Good Shepherd,Grayson Permaculture Group,Monthly presentation,Permaculture Garden,Workshop
ATTACH;FMTTYPE=image/jpeg:https://graysonlandcare.org/wp-content/uploads/2023/03/permaculture-logo.jpg
GEO:36.6244315;-80.9956098
X-APPLE-STRUCTURED-LOCATION;VALUE=URI;X-ADDRESS=Church of the Good Shepherd 9441 Grayson Pkwy Galax VA 24333 United States;X-APPLE-RADIUS=500;X-TITLE=9441 Grayson Pkwy:geo:-80.9956098,36.6244315
END:VEVENT
BEGIN:VEVENT
DTSTART;TZID=America/New_York:20260613T090000
DTEND;TZID=America/New_York:20260613T130000
DTSTAMP:20260424T201548
CREATED:20260309T182824Z
LAST-MODIFIED:20260413T163024Z
UID:10000424-1781341200-1781355600@graysonlandcare.org
SUMMARY:Part 2: Regenerative Practices and Permaculture at Home\, Growing Abundant Gardens
DESCRIPTION:Part two of this workshop series will be June 13 from 9am to 1pm at the Permaculture Garden at Church of the Good Shepherd located at 9441 Grayson Parkway\, Galax\, VA 24333 \nIn this workshop we will explore Permaculture methods for building a food forest\, planning fruit tree guilds\, and using water with swales and rainwater catchment systems. \nThe workshop is free but registration is required. Please email permaculture@graysonlandcare.org to register or for more information.
URL:https://graysonlandcare.org/event/part-2-regenerative-practices-and-permaculture-at-home-a-series-of-workshops/
LOCATION:Church of the Good Shepherd\, 9441 Grayson Pkwy\, Galax\, VA\, 24333\, United States
CATEGORIES:Chrurch of the Good Shepherd,Grayson Permaculture Group,Monthly presentation,Permaculture Garden,Workshop
ATTACH;FMTTYPE=image/jpeg:https://graysonlandcare.org/wp-content/uploads/2023/01/permaculture-logo.jpg
GEO:36.6244315;-80.9956098
X-APPLE-STRUCTURED-LOCATION;VALUE=URI;X-ADDRESS=Church of the Good Shepherd 9441 Grayson Pkwy Galax VA 24333 United States;X-APPLE-RADIUS=500;X-TITLE=9441 Grayson Pkwy:geo:-80.9956098,36.6244315
END:VEVENT
BEGIN:VEVENT
DTSTART;TZID=America/New_York:20260711T080000
DTEND;TZID=America/New_York:20260711T170000
DTSTAMP:20260424T201548
CREATED:20260309T183141Z
LAST-MODIFIED:20260413T164238Z
UID:10000425-1783756800-1783789200@graysonlandcare.org
SUMMARY:Part 3: Regenerative Practices and Permaculture at Home\,Homesteading and Herbal Medicine
DESCRIPTION:Part three of this workshop series will be July 11 from 1-4pm at the Permaculture Garden at Church of the Good Shepherd located at 9441 Grayson Parkway\, Galax\, VA 24333 \nDesign your homestead for abundance and discover how to utilize your forest and garden for herbal medicines. \nThe workshop is free but registration is required. Please email permaculture@graysonlandcare.org to register or for more information.
URL:https://graysonlandcare.org/event/part-3-regenerative-practices-and-permaculture-at-home-a-series-of-workshops/
LOCATION:Church of the Good Shepherd\, 9441 Grayson Pkwy\, Galax\, VA\, 24333\, United States
CATEGORIES:Chrurch of the Good Shepherd,Grayson Permaculture Group,Monthly presentation,Permaculture Garden,Workshop
ATTACH;FMTTYPE=image/jpeg:https://graysonlandcare.org/wp-content/uploads/2023/01/permaculture-logo.jpg
GEO:36.6244315;-80.9956098
X-APPLE-STRUCTURED-LOCATION;VALUE=URI;X-ADDRESS=Church of the Good Shepherd 9441 Grayson Pkwy Galax VA 24333 United States;X-APPLE-RADIUS=500;X-TITLE=9441 Grayson Pkwy:geo:-80.9956098,36.6244315
END:VEVENT
END:VCALENDAR