BEGIN:VCALENDAR
VERSION:2.0
PRODID:-//Grayson LandCare - ECPv6.15.20//NONSGML v1.0//EN
CALSCALE:GREGORIAN
METHOD:PUBLISH
X-WR-CALNAME:Grayson LandCare
X-ORIGINAL-URL:https://graysonlandcare.org
X-WR-CALDESC:Events for Grayson LandCare
REFRESH-INTERVAL;VALUE=DURATION:PT1H
X-Robots-Tag:noindex
X-PUBLISHED-TTL:PT1H
BEGIN:VTIMEZONE
TZID:America/New_York
BEGIN:DAYLIGHT
TZOFFSETFROM:-0500
TZOFFSETTO:-0400
TZNAME:EDT
DTSTART:20160313T070000
END:DAYLIGHT
BEGIN:STANDARD
TZOFFSETFROM:-0400
TZOFFSETTO:-0500
TZNAME:EST
DTSTART:20161106T060000
END:STANDARD
BEGIN:DAYLIGHT
TZOFFSETFROM:-0500
TZOFFSETTO:-0400
TZNAME:EDT
DTSTART:20170312T070000
END:DAYLIGHT
BEGIN:STANDARD
TZOFFSETFROM:-0400
TZOFFSETTO:-0500
TZNAME:EST
DTSTART:20171105T060000
END:STANDARD
BEGIN:DAYLIGHT
TZOFFSETFROM:-0500
TZOFFSETTO:-0400
TZNAME:EDT
DTSTART:20180311T070000
END:DAYLIGHT
BEGIN:STANDARD
TZOFFSETFROM:-0400
TZOFFSETTO:-0500
TZNAME:EST
DTSTART:20181104T060000
END:STANDARD
BEGIN:DAYLIGHT
TZOFFSETFROM:-0500
TZOFFSETTO:-0400
TZNAME:EDT
DTSTART:20190310T070000
END:DAYLIGHT
BEGIN:STANDARD
TZOFFSETFROM:-0400
TZOFFSETTO:-0500
TZNAME:EST
DTSTART:20191103T060000
END:STANDARD
BEGIN:DAYLIGHT
TZOFFSETFROM:-0500
TZOFFSETTO:-0400
TZNAME:EDT
DTSTART:20200308T070000
END:DAYLIGHT
BEGIN:STANDARD
TZOFFSETFROM:-0400
TZOFFSETTO:-0500
TZNAME:EST
DTSTART:20201101T060000
END:STANDARD
BEGIN:DAYLIGHT
TZOFFSETFROM:-0500
TZOFFSETTO:-0400
TZNAME:EDT
DTSTART:20210314T070000
END:DAYLIGHT
BEGIN:STANDARD
TZOFFSETFROM:-0400
TZOFFSETTO:-0500
TZNAME:EST
DTSTART:20211107T060000
END:STANDARD
BEGIN:DAYLIGHT
TZOFFSETFROM:-0500
TZOFFSETTO:-0400
TZNAME:EDT
DTSTART:20220313T070000
END:DAYLIGHT
BEGIN:STANDARD
TZOFFSETFROM:-0400
TZOFFSETTO:-0500
TZNAME:EST
DTSTART:20221106T060000
END:STANDARD
BEGIN:DAYLIGHT
TZOFFSETFROM:-0500
TZOFFSETTO:-0400
TZNAME:EDT
DTSTART:20230312T070000
END:DAYLIGHT
BEGIN:STANDARD
TZOFFSETFROM:-0400
TZOFFSETTO:-0500
TZNAME:EST
DTSTART:20231105T060000
END:STANDARD
END:VTIMEZONE
BEGIN:VEVENT
DTSTART;TZID=America/New_York:20220516T190000
DTEND;TZID=America/New_York:20220516T200000
DTSTAMP:20260424T152128
CREATED:20220425T143049Z
LAST-MODIFIED:20220425T143049Z
UID:10000303-1652727600-1652731200@graysonlandcare.org
SUMMARY:May meeting at Free Market with a Clean River Update.
DESCRIPTION:The Free Market is for everyone! Take the tour and see for yourself. In addition Keith Andrews of the New river Wildlife Club will give an update on the Grayson County Clean River Month Initiative. This will include some background on the origins of Clean River Month and will also detail progress and improvements being made to make 2022 an even larger success
URL:https://graysonlandcare.org/event/may-meeting-at-free-market-with-a-clean-river-update/
LOCATION:Free Market\, 1173 N Independence Ave\, Independence\, VA\, 24348\, United States
CATEGORIES:Free Market,Monthly Meeting,River Cleanup
ATTACH;FMTTYPE=image/jpeg:https://graysonlandcare.org/wp-content/uploads/2020/08/Free-market-August.jpg
GEO:36.6415764;-81.1648744
X-APPLE-STRUCTURED-LOCATION;VALUE=URI;X-ADDRESS=Free Market 1173 N Independence Ave Independence VA 24348 United States;X-APPLE-RADIUS=500;X-TITLE=1173 N Independence Ave:geo:-81.1648744,36.6415764
END:VEVENT
BEGIN:VEVENT
DTSTART;TZID=America/New_York:20180331T060000
DTEND;TZID=America/New_York:20180331T100000
DTSTAMP:20260424T152128
CREATED:20230225T170944Z
LAST-MODIFIED:20230225T170944Z
UID:10000230-1522476000-1522490400@graysonlandcare.org
SUMMARY:Free Market
DESCRIPTION:Located in the small town of Independence\, Virginia\, the Free Market is a project by Grayson LandCare to serve the community by arranging for unwanted items to find new homes and save people money. We will also share information on local events and who provides what services\, so those who sell their skills can find their customers. \nWhen Grayson County Schools are closed because of weather\, we are closed. Reminder: Please do NOT leave items when we are not open; we don’t take clothing\, furniture\, books (except cookbooks and kids’ books) or purely decorative items. Thank you for helping us to stay neat and be useful!
URL:https://graysonlandcare.org/event/free-market/2018-03-31/
LOCATION:Free Market\, 1173 N Independence Ave\, Independence\, VA\, 24348\, United States
CATEGORIES:Free Market
GEO:36.6415764;-81.1648744
X-APPLE-STRUCTURED-LOCATION;VALUE=URI;X-ADDRESS=Free Market 1173 N Independence Ave Independence VA 24348 United States;X-APPLE-RADIUS=500;X-TITLE=1173 N Independence Ave:geo:-81.1648744,36.6415764
END:VEVENT
BEGIN:VEVENT
DTSTART;TZID=America/New_York:20171218T130000
DTEND;TZID=America/New_York:20171218T150000
DTSTAMP:20260424T152128
CREATED:20171114T220337Z
LAST-MODIFIED:20171114T232750Z
UID:10000269-1513602000-1513609200@graysonlandcare.org
SUMMARY:Monthly Meeting: Christmas Party
DESCRIPTION:Join us for a cup of good cheer as we celebrate the holidays together. Bring a drink\, appetizer\, or dessert to share. Meet at the Free Market on 21 north of Independence.
URL:https://graysonlandcare.org/event/christmas-party/
LOCATION:Free Market\, 1173 N Independence Ave\, Independence\, VA\, 24348\, United States
CATEGORIES:Monthly Meeting
GEO:36.6415764;-81.1648744
X-APPLE-STRUCTURED-LOCATION;VALUE=URI;X-ADDRESS=Free Market 1173 N Independence Ave Independence VA 24348 United States;X-APPLE-RADIUS=500;X-TITLE=1173 N Independence Ave:geo:-81.1648744,36.6415764
END:VEVENT
BEGIN:VEVENT
DTSTART;TZID=America/New_York:20171216T090000
DTEND;TZID=America/New_York:20171216T110000
DTSTAMP:20260424T152128
CREATED:20171208T184246Z
LAST-MODIFIED:20171208T184246Z
UID:10000263-1513414800-1513422000@graysonlandcare.org
SUMMARY:Free Market Crafting Workshop
DESCRIPTION:The Free Market is hosting a crafting workshop using items donated to the market.  Join us to learn a craft and take home a delightful Christmas decoration for your home or a gift to give.
URL:https://graysonlandcare.org/event/free-market-crafting-workshop/
LOCATION:Free Market\, 1173 N Independence Ave\, Independence\, VA\, 24348\, United States
CATEGORIES:Free Market
GEO:36.6415764;-81.1648744
X-APPLE-STRUCTURED-LOCATION;VALUE=URI;X-ADDRESS=Free Market 1173 N Independence Ave Independence VA 24348 United States;X-APPLE-RADIUS=500;X-TITLE=1173 N Independence Ave:geo:-81.1648744,36.6415764
END:VEVENT
BEGIN:VEVENT
DTSTART;TZID=America/New_York:20171213T050000
DTEND;TZID=America/New_York:20171213T110000
DTSTAMP:20260424T152128
CREATED:20171114T223026Z
LAST-MODIFIED:20171209T005723Z
UID:10000264-1513141200-1513162800@graysonlandcare.org
SUMMARY:Free Market Christmas Shop
DESCRIPTION:Don’t miss the Free Markets Christmas Shop!  Date changed to Wednesday\, December 13th from 10am-4pm due to snow. \n 
URL:https://graysonlandcare.org/event/free-market-2017-12-13/
LOCATION:Free Market\, 1173 N Independence Ave\, Independence\, VA\, 24348\, United States
CATEGORIES:Free Market
GEO:36.6415764;-81.1648744
X-APPLE-STRUCTURED-LOCATION;VALUE=URI;X-ADDRESS=Free Market 1173 N Independence Ave Independence VA 24348 United States;X-APPLE-RADIUS=500;X-TITLE=1173 N Independence Ave:geo:-81.1648744,36.6415764
END:VEVENT
END:VCALENDAR